BEGIN:VCALENDAR
VERSION:2.0
PRODID:SchoolNow
CALSCALE:GREGORIAN
BEGIN:VEVENT
UID:042ba518-7ae2-11f0-8c63-021dfa3e00b3
DTSTAMP:20260421T114508Z
SUMMARY:Seabrook SB Meeting
LOCATION:Seabrook Middle School\, 256A Walton Rd\, Seabrook\, NH 03874\, US
 A
URL;VALUE=URI:https://www.sau21.nh.gov/sms/calendar/8514136/seabrook-sb-mee
 ting
DTSTART:20270413T203000Z
DTEND:20270413T223000Z
END:VEVENT
END:VCALENDAR
