BEGIN:VCALENDAR
VERSION:2.0
PRODID:SchoolNow
CALSCALE:GREGORIAN
BEGIN:VEVENT
UID:af368000-93fa-11f0-83ae-02e6eda3a955
DTSTAMP:20260423T183008Z
SUMMARY:Seabrook SB Meeting
LOCATION:Seabrook Middle School\, 256A Walton Rd\, Seabrook\, NH 03874\, US
 A
URL;VALUE=URI:https://www.sau21.nh.gov/sms/calendar/8633438/seabrook-sb-mee
 ting
DTSTART:20270511T203000Z
DTEND:20270511T223000Z
END:VEVENT
END:VCALENDAR
