BEGIN:VCALENDAR
VERSION:2.0
PRODID:SchoolNow
CALSCALE:GREGORIAN
BEGIN:VEVENT
UID:967f4456-a94a-11f0-90c9-0afff46b4031
DTSTAMP:20260423T122508Z
SUMMARY:Seabrook SB Meeting
LOCATION:Seabrook Middle School\, 256A Walton Rd\, Seabrook\, NH 03874\, US
 A
URL;VALUE=URI:https://www.sau21.nh.gov/sms/calendar/8722434/seabrook-sb-mee
 ting
DTSTART:20270608T203000Z
DTEND:20270608T223000Z
END:VEVENT
END:VCALENDAR
