BEGIN:VCALENDAR
VERSION:2.0
PRODID:SchoolNow
CALSCALE:GREGORIAN
BEGIN:VEVENT
UID:604ed76e-adac-11f0-be56-0a58a9feac02
DTSTAMP:20260421T114508Z
SUMMARY:Chess Club Afterschool
URL;VALUE=URI:https://www.sau21.nh.gov/sms/calendar/8735601/chess-club-afte
 rschool
DTSTART:20270419T183000Z
DTEND:20270419T193000Z
END:VEVENT
END:VCALENDAR
