BEGIN:VCALENDAR
VERSION:2.0
PRODID:SchoolNow
CALSCALE:GREGORIAN
BEGIN:VEVENT
UID:604ed854-adac-11f0-b8b3-0a58a9feac02
DTSTAMP:20260421T054008Z
SUMMARY:Chess Club Afterschool
URL;VALUE=URI:https://www.sau21.nh.gov/sms/calendar/8735602/chess-club-afte
 rschool
DTSTART:20270426T183000Z
DTEND:20270426T193000Z
END:VEVENT
END:VCALENDAR
