BEGIN:VCALENDAR
VERSION:2.0
PRODID:SchoolNow
CALSCALE:GREGORIAN
BEGIN:VEVENT
UID:604ed93a-adac-11f0-8980-0a58a9feac02
DTSTAMP:20260423T122508Z
SUMMARY:Chess Club Afterschool
URL;VALUE=URI:https://www.sau21.nh.gov/sms/calendar/8735603/chess-club-afte
 rschool
DTSTART:20270503T183000Z
DTEND:20270503T193000Z
END:VEVENT
END:VCALENDAR
