BEGIN:VCALENDAR
VERSION:2.0
PRODID:SchoolNow
CALSCALE:GREGORIAN
BEGIN:VEVENT
UID:604edbec-adac-11f0-9c22-0a58a9feac02
DTSTAMP:20260423T183008Z
SUMMARY:Chess Club Afterschool
URL;VALUE=URI:https://www.sau21.nh.gov/sms/calendar/8735606/chess-club-afte
 rschool
DTSTART:20270524T183000Z
DTEND:20270524T193000Z
END:VEVENT
END:VCALENDAR
