BEGIN:VCALENDAR
VERSION:2.0
PRODID:SchoolNow
CALSCALE:GREGORIAN
BEGIN:VEVENT
UID:604edcc8-adac-11f0-b122-0a58a9feac02
DTSTAMP:20260421T175008Z
SUMMARY:Chess Club Afterschool
URL;VALUE=URI:https://www.sau21.nh.gov/sms/calendar/8735607/chess-club-afte
 rschool
DTSTART:20270531T183000Z
DTEND:20270531T193000Z
END:VEVENT
END:VCALENDAR
