BEGIN:VCALENDAR
VERSION:2.0
PRODID:SchoolNow
CALSCALE:GREGORIAN
BEGIN:VEVENT
UID:604eddae-adac-11f0-953b-0a58a9feac02
DTSTAMP:20260423T122508Z
SUMMARY:Chess Club Afterschool
URL;VALUE=URI:https://www.sau21.nh.gov/sms/calendar/8735608/chess-club-afte
 rschool
DTSTART:20270607T183000Z
DTEND:20270607T193000Z
END:VEVENT
END:VCALENDAR
