BEGIN:VCALENDAR
VERSION:2.0
PRODID:SchoolNow
CALSCALE:GREGORIAN
BEGIN:VEVENT
UID:5a79c404-b05c-11f0-a872-0228d1b25e73
DTSTAMP:20260423T122508Z
SUMMARY:Chess Club Afterschool
URL;VALUE=URI:https://www.sau21.nh.gov/sms/calendar/8745592/chess-club-afte
 rschool
DTSTART:20270621T183000Z
DTEND:20270621T193000Z
END:VEVENT
END:VCALENDAR
