BEGIN:VCALENDAR
VERSION:2.0
PRODID:SchoolNow
CALSCALE:GREGORIAN
BEGIN:VEVENT
UID:f987afd8-b7ba-11f0-9a88-0a58a9feac02
DTSTAMP:20260423T122508Z
SUMMARY:Chess Club Afterschool
URL;VALUE=URI:https://www.sau21.nh.gov/sms/calendar/8768307/chess-club-afte
 rschool
DTSTART:20270628T183000Z
DTEND:20270628T193000Z
END:VEVENT
END:VCALENDAR
