BEGIN:VCALENDAR
VERSION:2.0
PRODID:SchoolNow
CALSCALE:GREGORIAN
BEGIN:VEVENT
UID:dbc9010a-ba84-11f0-ac6e-02d30c538b31
DTSTAMP:20260423T122508Z
SUMMARY:Chess Club Afterschool
URL;VALUE=URI:https://www.sau21.nh.gov/sms/calendar/8779298/chess-club-afte
 rschool
DTSTART:20270705T183000Z
DTEND:20270705T193000Z
END:VEVENT
END:VCALENDAR
