BEGIN:VCALENDAR
VERSION:2.0
PRODID:SchoolNow
CALSCALE:GREGORIAN
BEGIN:VEVENT
UID:93efe184-c018-11f0-8da0-0affc78ca753
DTSTAMP:20260423T122508Z
SUMMARY:Chess Club Afterschool
URL;VALUE=URI:https://www.sau21.nh.gov/sms/calendar/8792238/chess-club-afte
 rschool
DTSTART:20270712T183000Z
DTEND:20270712T193000Z
END:VEVENT
END:VCALENDAR
