BEGIN:VCALENDAR
VERSION:2.0
PRODID:SchoolNow
CALSCALE:GREGORIAN
BEGIN:VEVENT
UID:4e203c7e-c579-11f0-9f61-0a58a9feac02
DTSTAMP:20260423T122508Z
SUMMARY:Chess Club Afterschool
URL;VALUE=URI:https://www.sau21.nh.gov/sms/calendar/8803866/chess-club-afte
 rschool
DTSTART:20270719T183000Z
DTEND:20270719T193000Z
END:VEVENT
END:VCALENDAR
