BEGIN:VCALENDAR
VERSION:2.0
PRODID:SchoolNow
CALSCALE:GREGORIAN
BEGIN:VEVENT
UID:06665a3c-cb0d-11f0-b522-0ee7b0f4b0f7
DTSTAMP:20260423T122508Z
SUMMARY:Chess Club Afterschool
URL;VALUE=URI:https://www.sau21.nh.gov/sms/calendar/8810572/chess-club-afte
 rschool
DTSTART:20270726T183000Z
DTEND:20270726T193000Z
END:VEVENT
END:VCALENDAR
