BEGIN:VCALENDAR
VERSION:2.0
PRODID:SchoolNow
CALSCALE:GREGORIAN
BEGIN:VEVENT
UID:caa728ba-cfd4-11f0-b959-0a58a9feac02
DTSTAMP:20260423T183008Z
SUMMARY:Chess Club Afterschool
URL;VALUE=URI:https://www.sau21.nh.gov/sms/calendar/8816319/chess-club-afte
 rschool
DTSTART:20270802T183000Z
DTEND:20270802T193000Z
END:VEVENT
END:VCALENDAR
