BEGIN:VCALENDAR
VERSION:2.0
PRODID:SchoolNow
CALSCALE:GREGORIAN
BEGIN:VEVENT
UID:833c2870-d535-11f0-921d-0a58a9feac02
DTSTAMP:20260423T183008Z
SUMMARY:Chess Club Afterschool
URL;VALUE=URI:https://www.sau21.nh.gov/sms/calendar/8820730/chess-club-afte
 rschool
DTSTART:20270809T183000Z
DTEND:20270809T193000Z
END:VEVENT
END:VCALENDAR
