BEGIN:VCALENDAR
VERSION:2.0
PRODID:SchoolNow
CALSCALE:GREGORIAN
BEGIN:VEVENT
UID:738730f0-d634-11f0-9161-0afffffae7bb
DTSTAMP:20260423T183008Z
SUMMARY:Seabrook SB Meeting
LOCATION:Seabrook Middle School\, 256A Walton Rd\, Seabrook\, NH 03874\, US
 A
URL;VALUE=URI:https://www.sau21.nh.gov/sms/calendar/8821571/seabrook-sb-mee
 ting
DTSTART:20270810T203000Z
DTEND:20270810T223000Z
END:VEVENT
END:VCALENDAR
