BEGIN:VCALENDAR
VERSION:2.0
PRODID:SchoolNow
CALSCALE:GREGORIAN
BEGIN:VEVENT
UID:728ee47a-0052-11f1-9c48-0a58a9feac02
DTSTAMP:20260423T183008Z
SUMMARY:Chess Club Afterschool
URL;VALUE=URI:https://www.sau21.nh.gov/sms/calendar/8847848/chess-club-afte
 rschool
DTSTART:20270823T183000Z
DTEND:20270823T193000Z
END:VEVENT
END:VCALENDAR
