BEGIN:VCALENDAR
VERSION:2.0
PRODID:SchoolNow
CALSCALE:GREGORIAN
BEGIN:VEVENT
UID:728eee84-0052-11f1-b1e6-0a58a9feac02
DTSTAMP:20260424T064013Z
SUMMARY:Chess Club Afterschool
URL;VALUE=URI:https://www.sau21.nh.gov/sms/calendar/8847849/chess-club-afte
 rschool
DTSTART:20270830T183000Z
DTEND:20270830T193000Z
END:VEVENT
END:VCALENDAR
